BEGIN:VCALENDAR
VERSION:2.0
PRODID:-//Regionalmanagement Mittelhessen - ECPv6.15.12.2//NONSGML v1.0//EN
CALSCALE:GREGORIAN
METHOD:PUBLISH
X-WR-CALNAME:Regionalmanagement Mittelhessen
X-ORIGINAL-URL:https://mittelhessen.hpm1030.serverpress.de
X-WR-CALDESC:Veranstaltungen für Regionalmanagement Mittelhessen
REFRESH-INTERVAL;VALUE=DURATION:PT1H
X-Robots-Tag:noindex
X-PUBLISHED-TTL:PT1H
BEGIN:VTIMEZONE
TZID:Europe/Berlin
BEGIN:DAYLIGHT
TZOFFSETFROM:+0100
TZOFFSETTO:+0200
TZNAME:CEST
DTSTART:20240331T010000
END:DAYLIGHT
BEGIN:STANDARD
TZOFFSETFROM:+0200
TZOFFSETTO:+0100
TZNAME:CET
DTSTART:20241027T010000
END:STANDARD
BEGIN:DAYLIGHT
TZOFFSETFROM:+0100
TZOFFSETTO:+0200
TZNAME:CEST
DTSTART:20250330T010000
END:DAYLIGHT
BEGIN:STANDARD
TZOFFSETFROM:+0200
TZOFFSETTO:+0100
TZNAME:CET
DTSTART:20251026T010000
END:STANDARD
BEGIN:DAYLIGHT
TZOFFSETFROM:+0100
TZOFFSETTO:+0200
TZNAME:CEST
DTSTART:20260329T010000
END:DAYLIGHT
BEGIN:STANDARD
TZOFFSETFROM:+0200
TZOFFSETTO:+0100
TZNAME:CET
DTSTART:20261025T010000
END:STANDARD
END:VTIMEZONE
BEGIN:VEVENT
DTSTART;TZID=Europe/Berlin:20250911T133000
DTEND;TZID=Europe/Berlin:20250911T143000
DTSTAMP:20260421T224004
CREATED:20250922T113157Z
LAST-MODIFIED:20250930T134154Z
UID:30065-1757597400-1757601000@mittelhessen.hpm1030.serverpress.de
SUMMARY:Impulsvortrag: KI-Lösungen für den Mittelstand jenseits von ChatGPT
DESCRIPTION:KI-Standardlösungen stoßen schnell an ihre Grenzen – besonders im Mittelstand.\nIn diesem Vortrag erfahren Sie\, wie individuelle KI-Strategien konkrete Herausforderungen lösen und echte Wettbewerbsvorteile schaffen. Wir zeigen\, wie sich KI nachhaltig in bestehende Geschäftsprozesse integrieren lässt und präsentieren praxisnahe Beispiele jenseits von ChatGPT\, die direkt Mehrwert bringen. \nReferent: Christoph Mangold\, Geschäftsführer von BXL DIGITAL Beyond X Labs GmbH – Commitment to Excellence!\nMit über 20 Jahren Erfahrung in Konzernen\, Mittelstand\, Beratungen und als Unternehmer setzt er sich konsequent für den Geschäftserfolg von Kunden und Partnern ein. Seine Wurzeln im Automobilsektor machen ihn dabei zu einem besonders versierten Ansprechpartner für Unternehmen aus der Automobilzulieferer-Branche. Seit der Gründung von BXL DIGITAL im Jahr 2020 begleitet er Unternehmen bei ihrer digitalen Transformation – mit moderner Web- und App-Entwicklung sowie maßgeschneiderten KI-Lösungen. Bereits rund zwei Dutzend individuelle KI-Lösungen sind erfolgreich bei Kunden im Einsatz – praxisnah\, skalierbar und mit echtem Mehrwert. \nMelden Sie sich jetzt kostenlos an und seien Sie dabei! \nUnsere TeamMit Team Technologie-Veranstaltungen – darunter auch das oben genannte Event – haben wir für Sie übersichtlich hier zusammengestellt:\nhttps://teammit.transmit.de/unser-angebot/unsere-veranstaltungen \nDie TeamMit-Veranstaltungen dienen dem Aufbau eines mittelhessischen Unternehmensnetzwerks und somit der Vernetzung insbesondere mit dem Austausch von Kontaktinformationen der Teilnehmenden.
URL:https://mittelhessen.hpm1030.serverpress.de/event/impulsvortrag-ki-loesungen-fuer-den-mittelstand-jenseits-von-chatgpt/
LOCATION:TransMIT GmbH\, Kerkrader Str. 3\, Gießen\, Hessen\, 35394\, Germany
CATEGORIES:Regionalmanagement Events,TeamMit Events
ATTACH;FMTTYPE=image/jpeg:https://mittelhessen.hpm1030.serverpress.de/wp-content/uploads/2025/09/teammit_massgeschneiderte_ki.jpg
ORGANIZER;CN="TransMIT GmbH":MAILTO:info@transmit.de
END:VEVENT
END:VCALENDAR