BEGIN:VCALENDAR
VERSION:2.0
PRODID:-//Regionalmanagement Mittelhessen - ECPv6.15.12.2//NONSGML v1.0//EN
CALSCALE:GREGORIAN
METHOD:PUBLISH
X-WR-CALNAME:Regionalmanagement Mittelhessen
X-ORIGINAL-URL:https://mittelhessen.hpm1030.serverpress.de
X-WR-CALDESC:Veranstaltungen für Regionalmanagement Mittelhessen
REFRESH-INTERVAL;VALUE=DURATION:PT1H
X-Robots-Tag:noindex
X-PUBLISHED-TTL:PT1H
BEGIN:VTIMEZONE
TZID:Europe/Berlin
BEGIN:DAYLIGHT
TZOFFSETFROM:+0100
TZOFFSETTO:+0200
TZNAME:CEST
DTSTART:20250330T010000
END:DAYLIGHT
BEGIN:STANDARD
TZOFFSETFROM:+0200
TZOFFSETTO:+0100
TZNAME:CET
DTSTART:20251026T010000
END:STANDARD
BEGIN:DAYLIGHT
TZOFFSETFROM:+0100
TZOFFSETTO:+0200
TZNAME:CEST
DTSTART:20260329T010000
END:DAYLIGHT
BEGIN:STANDARD
TZOFFSETFROM:+0200
TZOFFSETTO:+0100
TZNAME:CET
DTSTART:20261025T010000
END:STANDARD
BEGIN:DAYLIGHT
TZOFFSETFROM:+0100
TZOFFSETTO:+0200
TZNAME:CEST
DTSTART:20270328T010000
END:DAYLIGHT
BEGIN:STANDARD
TZOFFSETFROM:+0200
TZOFFSETTO:+0100
TZNAME:CET
DTSTART:20271031T010000
END:STANDARD
END:VTIMEZONE
BEGIN:VEVENT
DTSTART;TZID=Europe/Berlin:20260319T183000
DTEND;TZID=Europe/Berlin:20260319T183000
DTSTAMP:20260421T150346
CREATED:20251022T072944Z
LAST-MODIFIED:20251106T165507Z
UID:31741-1773945000-1773945000@mittelhessen.hpm1030.serverpress.de
SUMMARY:Von Zöllen und Metern
DESCRIPTION:Von Zöllen und Metern\n– Die Revolution der Maßeinheiten\nBis vor etwa 150 Jahren gab es in Deutschland keine einheitlichen Längenmaße – und selbst gleichnamige Maße mussten nicht übereinstimmen. Der Wunsch nach einem einheitlichen Maßsystem setzte sich erst nach der französischen Revolution durch. Der Vortrag behandelt die Entwicklung von Längen-\, Flächen-\, Volumen- und Gewichtsmaßen im deutschsprachigen Raum vom Mittelalter bis zur Vereinheitlichung im Kaiserreich 1872. Außerdem wird die internationale Meterkonvention von 1875 sowie das 1960 eingeführte SI-Einheitensystem erklärt. Anhand praktischer Beispiele werden Probleme unterschiedlicher Maßsysteme und die Vorteile eines globalen Systems verdeutlicht\, das bis heute in der wissenschaftlichen Arbeit Bestand hat – ein Beispiel für erfolgreiche interdisziplinäre Zusammenarbeit. \nGerd Mathes ist Diplom-Geophysiker und seit 1983 Mitinhaber des Bergtechnischen Vermessungsbüros und Büros für angewandte Geophysik in Braunfels-Tiefenbach. Er war von 1968 bis 1977 Schüler des GPW.\nWeitere Infos
URL:https://mittelhessen.hpm1030.serverpress.de/event/31741/
LOCATION:Aula im Hauptgebäude des Gymnasium Philippinum Weilburg\, Lessingstraße 33\, Weilburg\, 35781
CATEGORIES:MINTmit Events
ATTACH;FMTTYPE=image/png:https://mittelhessen.hpm1030.serverpress.de/wp-content/uploads/2025/11/Philippinum_Weilburg-4.png
END:VEVENT
END:VCALENDAR